BEGIN:VCALENDAR
X-WR-TIMEZONE:Europe/Berlin
X-WR-CALNAME:rbb-Kalender
VERSION:2.0
METHOD:PUBLISH
CALSCALE:GREGORIAN
PRODID:rbb-CMS DAY
BEGIN:VEVENT
CLASS:PUBLIC
URL:http://www.rbb-online.de/content/rbb/rbb/rbbumsechs/archiv/20140401_1800/dampflok-legende.html
DTEND:20140401T182500
DTSTART:20140401T180000
UID:/content/rbb/rbb/rbbumsechs/archiv/20140401_1800/dampflok-legende
DTSTAMP:20140405T024729
DESCRIPTION:Vor 175 Jahren fuhr die erste Eisenbahn zwischen Dresen und Leipzig - zum Jubiläum zeigt das Dresdner Verkehrsmuseum eine Sonderausstellung.\n\n\n
SUMMARY:Dampflok-Legende
END:VEVENT
END:VCALENDAR
