BEGIN:VCALENDAR
X-WR-TIMEZONE:Europe/Berlin
X-WR-CALNAME:rbb-Kalender
VERSION:2.0
METHOD:PUBLISH
CALSCALE:GREGORIAN
PRODID:rbb-CMS DAY
BEGIN:VEVENT
CLASS:PUBLIC
URL:http://www.rbb-online.de/content/rbb/rbb/rbbumsechs/archiv/20140402_1800/ddr-museumswohnung.html
DTEND:20140402T182500
DTSTART:20140402T180000
UID:/content/rbb/rbb/rbbumsechs/archiv/20140402_1800/ddr-museumswohnung
DTSTAMP:20140405T024712
DESCRIPTION:Gestern eröffnete die Magdeburger Wohnungsgenossenschaft anlässlich ihres 60. Geburtstags eine DDR-Museumswohnung.\n
SUMMARY:DDR-Museumswohnung eröffnet
END:VEVENT
END:VCALENDAR
