BEGIN:VCALENDAR
X-WR-TIMEZONE:Europe/Berlin
X-WR-CALNAME:rbb-Kalender
VERSION:2.0
METHOD:PUBLISH
CALSCALE:GREGORIAN
PRODID:rbb-CMS DAY
BEGIN:VEVENT
CLASS:PUBLIC
URL:http://www.rbb-online.de/content/rbb/rbb/rbbumsechs/archiv/20140402_1800/wasserbueffel-in-sachsen.html
DTEND:20140402T182500
DTSTART:20140402T180000
UID:/content/rbb/rbb/rbbumsechs/archiv/20140402_1800/wasserbueffel-in-sachsen
DTSTAMP:20140405T025023
DESCRIPTION:Wasserbüffelkäse und -fleisch werden derzeit kräftig nachgefragt. Kein Wunder also, dass sich die Zahl dieser Tiere in Sachsen binnen weniger Jahre verdoppelt hat.\n
SUMMARY:Wasserbüffel in Sachsen
END:VEVENT
END:VCALENDAR
