BEGIN:VCALENDAR
X-WR-TIMEZONE:Europe/Berlin
X-WR-CALNAME:rbb-Kalender
VERSION:2.0
METHOD:PUBLISH
CALSCALE:GREGORIAN
PRODID:rbb-CMS DAY
BEGIN:VEVENT
CLASS:PUBLIC
URL:http://www.rbb-online.de/content/rbb/rbb/rbbumsechs/archiv/20140403_1800/filmpremiere_halle.html
DTEND:20140403T182500
DTSTART:20140403T180000
UID:/content/rbb/rbb/rbbumsechs/archiv/20140403_1800/filmpremiere_halle
DTSTAMP:20140405T024952
DESCRIPTION:In Halle wird der rote Teppich ausgerollt. Der Grund: die Erstaufführung von "Lauf, Junge, lauf". Das Historiendrama erzählt die wahre Geschichte eines Jungen, der während des zweiten Weltkriegs aus dem Warschauer Ghetto flieht.\n\n\n
SUMMARY:Filmpremiere in Halle
END:VEVENT
END:VCALENDAR
