BEGIN:VCALENDAR
X-WR-TIMEZONE:Europe/Berlin
X-WR-CALNAME:rbb-Kalender
VERSION:2.0
METHOD:PUBLISH
CALSCALE:GREGORIAN
PRODID:rbb-CMS DAY
BEGIN:VEVENT
CLASS:PUBLIC
URL:http://www.rbb-online.de/content/rbb/rbb/rbbumsechs/archiv/20140404_1800/Canaletto_zurueck_auf_koenigstein.html
DTEND:20140404T182500
DTSTART:20140404T180000
UID:/content/rbb/rbb/rbbumsechs/archiv/20140404_1800/Canaletto_zurueck_auf_koenigstein
DTSTAMP:20140407T114728
DESCRIPTION:Zur Eröffnung der Kunstausstellung "Die Festung Königstein im Spiegel der Kunst" am 11. April enthüllten die Museumsmitarbeiter der alten Festung bereits zwei besondere Schätze. Zwei Gemälde des Malers Bernardo Bellotto, genannt Canaletto, wurden für den Ausstellungszeitraum April-November auf die Festung geholt.\n\n\n
SUMMARY:Canaletto zurück in Königstein
END:VEVENT
END:VCALENDAR
