BEGIN:VCALENDAR
X-WR-TIMEZONE:Europe/Berlin
X-WR-CALNAME:rbb-Kalender
VERSION:2.0
METHOD:PUBLISH
CALSCALE:GREGORIAN
PRODID:rbb-CMS DAY
BEGIN:VEVENT
CLASS:PUBLIC
URL:http://www.rbb-online.de/content/rbb/rbb/stilbruch/archiv/20130808_2215/bahnhof-der-traenen.html
DTEND:20130808T224500
DTSTART:20130808T221500
UID:/content/rbb/rbb/stilbruch/archiv/20130808_2215/bahnhof-der-traenen
DTSTAMP:20140407T063730
DESCRIPTION:Der Bahnhof Friedrichstraße wurde nach dem Krieg zum wichtigsten Verbindungsglied zwischen Ost und West. Besucher, Spione und Flüchtlinge nutzten den Grenzübergang. Mit neuen Dokumenten und vielen Zeitzeugen rekonstruiert der Berliner Autor Philipp Springer die Geschichte dieses ungewöhnlichen Ortes.\n\n\n
SUMMARY:Bahnhof der Tränen - Grenze Friedrichstraße
END:VEVENT
END:VCALENDAR
