BEGIN:VCALENDAR
X-WR-TIMEZONE:Europe/Berlin
X-WR-CALNAME:rbb-Kalender
VERSION:2.0
METHOD:PUBLISH
CALSCALE:GREGORIAN
PRODID:rbb-CMS DAY
BEGIN:VEVENT
CLASS:PUBLIC
URL:http://www.rbb-online.de/content/rbb/rbb/stilbruch/archiv/20130808_2215/heinrich-george.html
DTEND:20130808T224500
DTSTART:20130808T221500
UID:/content/rbb/rbb/stilbruch/archiv/20130808_2215/heinrich-george
DTSTAMP:20140407T063716
DESCRIPTION:\nSie lernten sich 1930 am Staatstheater Berlin kennen: Heinrich George und die aufstrebende Schauspielerin Berta Drews. Kurz darauf heiraten sie. Heinrich George stirbt 1946 in einem sowjetischen Gefangenenlager, seine Frau überlebt ihn um mehr als 40 Jahre. Erst jetzt erscheint ihr Briefwechsel, der einen neuen Blick auf den legendären Theatermacher erlaubt. (Das Video zum Beitrag liegt aus lizenzrechtlichen Gründen leider nicht vor.)\n\n\n\n
SUMMARY:Heinrich George
END:VEVENT
END:VCALENDAR
