BEGIN:VCALENDAR
X-WR-TIMEZONE:Europe/Berlin
X-WR-CALNAME:rbb-Kalender
VERSION:2.0
METHOD:PUBLISH
CALSCALE:GREGORIAN
PRODID:rbb-CMS DAY
BEGIN:VEVENT
LOCATION:Das Kulturmagazin
CLASS:PUBLIC
URL:http://www.rbb-online.de/content/rbb/rbb/stilbruch/archiv/20130815_2215.html
DTEND:20130815T224500
DTSTART:20130815T221500
UID:/content/rbb/rbb/stilbruch/archiv/20130815_2215
DTSTAMP:20140406T055230
DESCRIPTION:+++ Filmemacher Dresen wird 50 +++ Meret Oppenheim +++ Freiheit im Internet +++ Ernst Haffner: "Blutsbrüder" +++ Debutfilm: "Dr. Ketel" +++ Ausstellung: "Verlassene Orte" +++\n\n\n
SUMMARY:Stilbruch 15.08.2013 22:15
END:VEVENT
END:VCALENDAR
