BEGIN:VCALENDAR
X-WR-TIMEZONE:Europe/Berlin
X-WR-CALNAME:rbb-Kalender
VERSION:2.0
METHOD:PUBLISH
CALSCALE:GREGORIAN
PRODID:rbb-CMS DAY
BEGIN:VEVENT
CLASS:PUBLIC
URL:http://www.rbb-online.de/content/rbb/rbb/stilbruch/archiv/20130815_2215/andreas-dresen-wird-50.html
DTEND:20130815T224500
DTSTART:20130815T221500
UID:/content/rbb/rbb/stilbruch/archiv/20130815_2215/andreas-dresen-wird-50
DTSTAMP:20140407T063332
DESCRIPTION:Ob "Sommer vorm Balkon", "Wolke 9" oder "Halt auf freier Strecke": Seine Filme erzählen lebensnahe Geschichten, glaubwürdig und warmherzig. Andreas Dresen setzt die sogenannten einfachen Leute und deren Schicksale in Szene. Jetzt wird der Regisseur 50 Jahre alt.\n\n\n
SUMMARY:Andreas Dresen - der Filmemacher wird 50
END:VEVENT
END:VCALENDAR
