BEGIN:VCALENDAR
X-WR-TIMEZONE:Europe/Berlin
X-WR-CALNAME:rbb-Kalender
VERSION:2.0
METHOD:PUBLISH
CALSCALE:GREGORIAN
PRODID:rbb-CMS DAY
BEGIN:VEVENT
CLASS:PUBLIC
URL:http://www.rbb-online.de/content/rbb/rbb/stilbruch/archiv/20130815_2215/ernst-haffner-blutsbrueder.html
DTEND:20130815T224500
DTSTART:20130815T221500
UID:/content/rbb/rbb/stilbruch/archiv/20130815_2215/ernst-haffner-blutsbrueder
DTSTAMP:20140407T063252
DESCRIPTION:Berlin von unten: In den 30er Jahren taten sich arme Tagelöhner und Laufburschen zu Cliquen zusammen, um ein bisschen soziale Wärme zu finden. Von diesen "Blutsbrüdern" erzählt der 1932 erschienene Roman von Ernst Haffner, der von den Nazis verboten und öffentlich verbrannt wurde. Jetzt 80 Jahre später wird das Buch ein zweites Mal verlegt. (Das Video zum Beitrag liegt aus lizenzrechtlichen Gründen nicht vor.)\n\n\n
SUMMARY:Ernst Haffner: "Blutsbrüder"
END:VEVENT
END:VCALENDAR
