BEGIN:VCALENDAR
X-WR-TIMEZONE:Europe/Berlin
X-WR-CALNAME:rbb-Kalender
VERSION:2.0
METHOD:PUBLISH
CALSCALE:GREGORIAN
PRODID:rbb-CMS DAY
BEGIN:VEVENT
CLASS:PUBLIC
URL:http://www.rbb-online.de/content/rbb/rbb/stilbruch/archiv/20130815_2215/freiheit-im-internet.html
DTEND:20130815T224500
DTSTART:20130815T221500
UID:/content/rbb/rbb/stilbruch/archiv/20130815_2215/freiheit-im-internet
DTSTAMP:20140407T063327
DESCRIPTION:Die Kommunikation im Internet und übers Handy ist leicht abzuhören. Aber dass eine Mail wirklich so leicht zu lesen ist wie eine Postkarte ist den meisten Usern wohl erst seit der NSA-Affäre bewusst. Was ist von der unbegrenzten Freiheit im Internet heute eigentlich noch übrig geblieben?\n
SUMMARY:Freiheit im Internet
END:VEVENT
END:VCALENDAR
