BEGIN:VCALENDAR
X-WR-TIMEZONE:Europe/Berlin
X-WR-CALNAME:rbb-Kalender
VERSION:2.0
METHOD:PUBLISH
CALSCALE:GREGORIAN
PRODID:rbb-CMS DAY
BEGIN:VEVENT
CLASS:PUBLIC
URL:http://www.rbb-online.de/content/rbb/rbb/stilbruch/archiv/20130815_2215/kulturtipps-mit-bettina-masuch.html
DTEND:20130815T224500
DTSTART:20130815T221500
UID:/content/rbb/rbb/stilbruch/archiv/20130815_2215/kulturtipps-mit-bettina-masuch
DTSTAMP:20140407T063248
DESCRIPTION:Tipp 1: "Notion: Dance Fiction"\n\nTipp 2: "Trachtenbummler"\n\nTipp 3: "Slow Dancing"\n\n\n
SUMMARY:Kulturtipps mit Bettina Masuch
END:VEVENT
END:VCALENDAR
