BEGIN:VCALENDAR
X-WR-TIMEZONE:Europe/Berlin
X-WR-CALNAME:rbb-Kalender
VERSION:2.0
METHOD:PUBLISH
CALSCALE:GREGORIAN
PRODID:rbb-CMS DAY
BEGIN:VEVENT
CLASS:PUBLIC
URL:http://www.rbb-online.de/content/rbb/rbb/stilbruch/archiv/20130822_2215/heroes-where-are-we-now.html
DTEND:20130822T224500
DTSTART:20130822T221500
UID:/content/rbb/rbb/stilbruch/archiv/20130822_2215/heroes-where-are-we-now
DTSTAMP:20140406T102010
DESCRIPTION:David Bowies neues Album ist eine Hommage an seine wilden Berliner Jahre in den Siebzigern. Schauspielstudenten der Ernst-Busch-Schule huldigen Bowie jetzt mit einem Theaterabend im Kreuzberger Umspannwerk - einem "szenischen One-Night-Stand".\n
SUMMARY:"Heroes, where are we now?"
END:VEVENT
END:VCALENDAR
