BEGIN:VCALENDAR
X-WR-TIMEZONE:Europe/Berlin
X-WR-CALNAME:rbb-Kalender
VERSION:2.0
METHOD:PUBLISH
CALSCALE:GREGORIAN
PRODID:rbb-CMS DAY
BEGIN:VEVENT
CLASS:PUBLIC
URL:http://www.rbb-online.de/content/rbb/rbb/stilbruch/archiv/20130822_2215/lysa-kayser-corsy.html
DTEND:20130822T224500
DTSTART:20130822T221500
UID:/content/rbb/rbb/stilbruch/archiv/20130822_2215/lysa-kayser-corsy
DTSTAMP:20140407T063439
DESCRIPTION:Das Themenjahr "Zerstörte Vielfalt" widmet sich auch Berliner Künstlern, die nach 1933  verboten wurden, vertrieben oder ermordet. Doch die Show sollte auch unter den Nazis weitergehen, was Karrieren ermöglichte, die es sonst vermutlich nie gegeben hätte. So wie die der Tänzerin Lysa Kayser-Corsy.\n\n\n
SUMMARY:Karriere im Dienst der Nazis - Die Geschichte von Lysa Kayser-Corsy
END:VEVENT
END:VCALENDAR
