BEGIN:VCALENDAR
X-WR-TIMEZONE:Europe/Berlin
X-WR-CALNAME:rbb-Kalender
VERSION:2.0
METHOD:PUBLISH
CALSCALE:GREGORIAN
PRODID:rbb-CMS DAY
BEGIN:VEVENT
CLASS:PUBLIC
URL:http://www.rbb-online.de/content/rbb/rbb/stilbruch/archiv/20130822_2215/maurice-de-martin.html
DTEND:20130822T224500
DTSTART:20130822T221500
UID:/content/rbb/rbb/stilbruch/archiv/20130822_2215/maurice-de-martin
DTSTAMP:20140407T063421
DESCRIPTION:Der Aktionskünstler Maurice de Martin macht seine Arbeit zu Kunst: Einen Monat lang erledigt er, was die Bewohner im Berliner Stadtteil Marzahn ihm auftragen. Ein Anruf genügt und Maurice macht Musik oder auch mal den Haushalt.\n
SUMMARY:Maurice de Martin
END:VEVENT
END:VCALENDAR
