BEGIN:VCALENDAR
X-WR-TIMEZONE:Europe/Berlin
X-WR-CALNAME:rbb-Kalender
VERSION:2.0
METHOD:PUBLISH
CALSCALE:GREGORIAN
PRODID:rbb-CMS DAY
BEGIN:VEVENT
CLASS:PUBLIC
URL:http://www.rbb-online.de/content/rbb/rbb/stilbruch/archiv/20130905_2215/geraubte-mitte-ausstellung-berlin.html
DTEND:20130905T224500
DTSTART:20130905T221500
UID:/content/rbb/rbb/stilbruch/archiv/20130905_2215/geraubte-mitte-ausstellung-berlin
DTSTAMP:20140407T062249
DESCRIPTION:Erst haben die Nationalsozialisten das Haus des jüdischen Geschäftsmanns Jakob Intrator zwangsversteigert. Später wurden sie von der DDR enteignet. Joanne Intrator, die Ur-Enkelin, hat lange um das Erbe gekämpft und doch nur Geld und nie Recht bekommen. Eine der vielen Geschichten aus der Ausstellung "Geraubte Mitte".\n\n\n
SUMMARY:"Geraubte Mitte"
END:VEVENT
END:VCALENDAR
