BEGIN:VCALENDAR
X-WR-TIMEZONE:Europe/Berlin
X-WR-CALNAME:rbb-Kalender
VERSION:2.0
METHOD:PUBLISH
CALSCALE:GREGORIAN
PRODID:rbb-CMS DAY
BEGIN:VEVENT
CLASS:PUBLIC
URL:http://www.rbb-online.de/content/rbb/rbb/stilbruch/archiv/20130912_2215/kulturtipps-mit-marie-seferian.html
DTEND:20130912T224500
DTSTART:20130912T221500
UID:/content/rbb/rbb/stilbruch/archiv/20130912_2215/kulturtipps-mit-marie-seferian
DTSTAMP:20140407T064228
DESCRIPTION:Tipp 1: Musikschule Fanny Hensel\n\nTipp 2: Koko Schultz\n\nTipp 3: "Walter Heinrich: Malerei und Zeichnung"\n\n\n
SUMMARY:Kulturtipps mit Marie Séférian
END:VEVENT
END:VCALENDAR
