BEGIN:VCALENDAR
X-WR-TIMEZONE:Europe/Berlin
X-WR-CALNAME:rbb-Kalender
VERSION:2.0
METHOD:PUBLISH
CALSCALE:GREGORIAN
PRODID:rbb-CMS DAY
BEGIN:VEVENT
CLASS:PUBLIC
URL:http://www.rbb-online.de/content/rbb/rbb/stilbruch/archiv/20130912_2215/rex-lawson-spielt-strawinsky.html
DTEND:20130912T224500
DTSTART:20130912T221500
UID:/content/rbb/rbb/stilbruch/archiv/20130912_2215/rex-lawson-spielt-strawinsky
DTSTAMP:20140407T064321
DESCRIPTION:Rex Lawson ist Engländer und der einzige Orchester Pianola-Spieler der Welt. Jetzt ist er im Kammermusiksaal der Berliner Philharmoniker live zu sehen.\n\n\n
SUMMARY:Rex Lawson spielt Strawinsky
END:VEVENT
END:VCALENDAR
