BEGIN:VCALENDAR
X-WR-TIMEZONE:Europe/Berlin
X-WR-CALNAME:rbb-Kalender
VERSION:2.0
METHOD:PUBLISH
CALSCALE:GREGORIAN
PRODID:rbb-CMS DAY
BEGIN:VEVENT
CLASS:PUBLIC
URL:http://www.rbb-online.de/content/rbb/rbb/stilbruch/archiv/20130912_2215/zum-tod-von-otto-sander.html
DTEND:20130912T224500
DTSTART:20130912T221500
UID:/content/rbb/rbb/stilbruch/archiv/20130912_2215/zum-tod-von-otto-sander
DTSTAMP:20140407T064331
DESCRIPTION:Eine Berliner Schauspiellegende ist tot: Otto Sander starb am Donnerstag im Alter von 72 Jahren. Sander arbeitete unter anderem mit Theaterregisseuren wie Peter Stein und Robert Wilson zusammen - und war in Wim Wenders' "Der Himmel über Berlin" als Engel zu sehen.\n\n\n
SUMMARY:Zum Tod von Otto Sander
END:VEVENT
END:VCALENDAR
