BEGIN:VCALENDAR
X-WR-TIMEZONE:Europe/Berlin
X-WR-CALNAME:rbb-Kalender
VERSION:2.0
METHOD:PUBLISH
CALSCALE:GREGORIAN
PRODID:rbb-CMS DAY
BEGIN:VEVENT
CLASS:PUBLIC
URL:http://www.rbb-online.de/content/rbb/rbb/stilbruch/archiv/20130919_2215/Sammler-Nachwuchs-auf-der-Berlin-Art-Week.html
DTEND:20130919T224500
DTSTART:20130919T221500
UID:/content/rbb/rbb/stilbruch/archiv/20130919_2215/Sammler-Nachwuchs-auf-der-Berlin-Art-Week
DTSTAMP:20140407T063149
DESCRIPTION:Die "Berlin Art Week" ist DAS Kunstereignis des Jahres. Überall in der Stadt locken Museen, Galerien, Künstler die Kunstinteressierten aus aller Welt. Doch wer behält da überhaupt noch den Überblick? Nicht nur die Kunst – auch das Kunst-Sammeln will gelernt sein. Die Nachwuchs-Sammlerin Karoline Pfeiffer führt durch die diesjährige Berlin Art Week.\n\n\n
SUMMARY:Sammler-Nachwuchs auf der Berlin Art Week
END:VEVENT
END:VCALENDAR
