BEGIN:VCALENDAR
X-WR-TIMEZONE:Europe/Berlin
X-WR-CALNAME:rbb-Kalender
VERSION:2.0
METHOD:PUBLISH
CALSCALE:GREGORIAN
PRODID:rbb-CMS DAY
BEGIN:VEVENT
LOCATION:Das Kulturmagazin
CLASS:PUBLIC
URL:http://www.rbb-online.de/content/rbb/rbb/stilbruch/archiv/20130926_2215.html
DTEND:20130926T224500
DTSTART:20130926T221500
UID:/content/rbb/rbb/stilbruch/archiv/20130926_2215
DTSTAMP:20140406T055003
DESCRIPTION:+++ Zum 50. Todestag von Edith Piaf +++ Aufwühlendes Buch von Gabriel Heim +++ "nachtleben Berlin - 1974 bis heute +++ Deutscher Dirigentenpreis an Kristiina Poska +++ Charity Children +++  \n\n\n \n
SUMMARY:Stilbruch 26.09.2013 22:15
END:VEVENT
END:VCALENDAR
