BEGIN:VCALENDAR
X-WR-TIMEZONE:Europe/Berlin
X-WR-CALNAME:rbb-Kalender
VERSION:2.0
METHOD:PUBLISH
CALSCALE:GREGORIAN
PRODID:rbb-CMS DAY
BEGIN:VEVENT
CLASS:PUBLIC
URL:http://www.rbb-online.de/content/rbb/rbb/stilbruch/archiv/20130926_2215/kristiina-poska.html
DTEND:20130926T224500
DTSTART:20130926T221500
UID:/content/rbb/rbb/stilbruch/archiv/20130926_2215/kristiina-poska
DTSTAMP:20140407T062752
DESCRIPTION:Sie ist 35 Jahre alt und hat eine der letzten Männerbastionen erobert. In diesem Jahr hat Kristiina Poska den Deutschen Dirigentenpreis gewonnen - als erste Frau überhaupt. Poska kommt aus Estland, aber ihr Handwerk hat sie in Berlin gelernt.\n
SUMMARY:Kristiina Poska
END:VEVENT
END:VCALENDAR
