BEGIN:VCALENDAR
X-WR-TIMEZONE:Europe/Berlin
X-WR-CALNAME:rbb-Kalender
VERSION:2.0
METHOD:PUBLISH
CALSCALE:GREGORIAN
PRODID:rbb-CMS DAY
BEGIN:VEVENT
CLASS:PUBLIC
URL:http://www.rbb-online.de/content/rbb/rbb/stilbruch/archiv/20130926_2215/nachtleben-berlin-1974-bis-heute.html
DTEND:20130926T224500
DTSTART:20130926T221500
UID:/content/rbb/rbb/stilbruch/archiv/20130926_2215/nachtleben-berlin-1974-bis-heute
DTSTAMP:20140407T062739
DESCRIPTION:Das Berliner Nachtleben gehört zu den aufregendsten der Welt. Die große Party hat jedoch nicht erst mit dem Mauerfall anfangen. Ein neues Buch erzählt jetzt vom Berliner Nachtleben der letzten vierzig Jahre.\n
SUMMARY:"Nachtleben Berlin - 1974 bis heute"
END:VEVENT
END:VCALENDAR
