BEGIN:VCALENDAR
X-WR-TIMEZONE:Europe/Berlin
X-WR-CALNAME:rbb-Kalender
VERSION:2.0
METHOD:PUBLISH
CALSCALE:GREGORIAN
PRODID:rbb-CMS DAY
BEGIN:VEVENT
CLASS:PUBLIC
URL:http://www.rbb-online.de/content/rbb/rbb/stilbruch/archiv/20131010_2215/kat-frankie.html
DTEND:20131010T224500
DTSTART:20131010T221500
UID:/content/rbb/rbb/stilbruch/archiv/20131010_2215/kat-frankie
DTSTAMP:20140407T063637
DESCRIPTION:Die Australierin kam vor ein paar Jahren eigentlich nur nach Berlin, um eine Auszeit von ihrem Job als Designerin zu nehmen. Doch die Berliner Musikszene und die vielen Clubs wirkten wie eine Offenbarung auf Kat Frankie - mittlerweile hat sie sich als Singer-Songwriterin einen Namen gemacht.\n
SUMMARY:Kat Frankie
END:VEVENT
END:VCALENDAR
