BEGIN:VCALENDAR
X-WR-TIMEZONE:Europe/Berlin
X-WR-CALNAME:rbb-Kalender
VERSION:2.0
METHOD:PUBLISH
CALSCALE:GREGORIAN
PRODID:rbb-CMS DAY
BEGIN:VEVENT
CLASS:PUBLIC
URL:http://www.rbb-online.de/content/rbb/rbb/stilbruch/archiv/20131010_2215/mark-benecke-seziert-das-leben-von-otto-prokop.html
DTEND:20131010T224500
DTSTART:20131010T221500
UID:/content/rbb/rbb/stilbruch/archiv/20131010_2215/mark-benecke-seziert-das-leben-von-otto-prokop
DTSTAMP:20140407T063541
DESCRIPTION:Dr. Mark Benecke ist einer der bekanntesten Kriminalbiologen hierzulande. Er ist Kolumnist, Ausbilder an Polizeischulen, Talkshow-Gast - und Autor. In seinem neuesten Buch widmet er sich Otto Prokop, dem populärsten Rechtsmediziner der DDR. (Das Video zum Beitrag liegt aus lizenzrechtlichen Gründen nicht vor.)\n\n\n
SUMMARY:Mark Benecke: "Seziert: Das Leben von Otto Prokop"
END:VEVENT
END:VCALENDAR
