BEGIN:VCALENDAR
X-WR-TIMEZONE:Europe/Berlin
X-WR-CALNAME:rbb-Kalender
VERSION:2.0
METHOD:PUBLISH
CALSCALE:GREGORIAN
PRODID:rbb-CMS DAY
BEGIN:VEVENT
CLASS:PUBLIC
URL:http://www.rbb-online.de/content/rbb/rbb/stilbruch/archiv/20131010_2215/theaterfilm-woyzeck.html
DTEND:20131010T224500
DTSTART:20131010T221500
UID:/content/rbb/rbb/stilbruch/archiv/20131010_2215/theaterfilm-woyzeck
DTSTAMP:20140407T063629
DESCRIPTION:Außenseiter und Anti-Helden scheinen dem Schauspieler Tom Schilling zu liegen. Zum 200. Büchner-Geburtstag wagt er sich an den Woyzeck - einen sehr modernen Woyzeck im harten Alltag von Berlin-Wedding.\n
SUMMARY:"Woyzeck"
END:VEVENT
END:VCALENDAR
