BEGIN:VCALENDAR
X-WR-TIMEZONE:Europe/Berlin
X-WR-CALNAME:rbb-Kalender
VERSION:2.0
METHOD:PUBLISH
CALSCALE:GREGORIAN
PRODID:rbb-CMS DAY
BEGIN:VEVENT
CLASS:PUBLIC
URL:http://www.rbb-online.de/content/rbb/rbb/stilbruch/archiv/20131017_2215/said-david-barenboim.html
DTEND:20131017T224500
DTSTART:20131017T221500
UID:/content/rbb/rbb/stilbruch/archiv/20131017_2215/said-david-barenboim
DTSTAMP:20140407T061008
DESCRIPTION:Eine ungewöhnliche Freundschaft: Said, ein Rapper mit arabischen Wurzeln, war obdachlos, dealte mit Drogen und saß im Gefängnis. David Barenboim hingegen ist Jude, hat an den besten Schulen gelernt und ist der Sohn eines Stardirigenten. Heute ist er Produzent. Beide haben jetzt gemeinsam ein Album produziert.\n\n\n
SUMMARY:Said & David Barenboim
END:VEVENT
END:VCALENDAR
