BEGIN:VCALENDAR
X-WR-TIMEZONE:Europe/Berlin
X-WR-CALNAME:rbb-Kalender
VERSION:2.0
METHOD:PUBLISH
CALSCALE:GREGORIAN
PRODID:rbb-CMS DAY
BEGIN:VEVENT
CLASS:PUBLIC
URL:http://www.rbb-online.de/content/rbb/rbb/stilbruch/archiv/20131024_2215/free-jazz-in-der-ddr.html
DTEND:20131024T224500
DTSTART:20131024T221500
UID:/content/rbb/rbb/stilbruch/archiv/20131024_2215/free-jazz-in-der-ddr
DTSTAMP:20140407T061711
DESCRIPTION:Beim Jazzfest Berlin wird der 80. Geburtstag von Ernst-Ludwig Petrwosky gefeiert. Der Saxophonist gilt als einer der Urväter des Free Jazz in der DDR. Er weiß, warum ausgerechnet in einem Überwachungsstaat die Musik ohne Regeln gefördert wurde.\n
SUMMARY:Free Jazz in der DDR
END:VEVENT
END:VCALENDAR
