BEGIN:VCALENDAR
X-WR-TIMEZONE:Europe/Berlin
X-WR-CALNAME:rbb-Kalender
VERSION:2.0
METHOD:PUBLISH
CALSCALE:GREGORIAN
PRODID:rbb-CMS DAY
BEGIN:VEVENT
CLASS:PUBLIC
URL:http://www.rbb-online.de/content/rbb/rbb/stilbruch/archiv/20131024_2215/hotel-bogota.html
DTEND:20131024T224500
DTSTART:20131024T221500
UID:/content/rbb/rbb/stilbruch/archiv/20131024_2215/hotel-bogota
DTSTAMP:20140407T061748
DESCRIPTION:Es ist ein Stück Berliner Kulturgeschichte: Das Hotel Bogota in Berlin-Charlottenburg wirkt wie aus der Zeit gefallen, mit seiner bewegten Geschichte, seiner Patina und seinem Charme. Doch jetzt ist Schluss - das Hotel Bogota muss schließen. (Das Video zum Beitrag liegt aus lizenzrechtlichen Gründen nicht vor.)\n
SUMMARY:Hotel Bogota
END:VEVENT
END:VCALENDAR
