BEGIN:VCALENDAR
X-WR-TIMEZONE:Europe/Berlin
X-WR-CALNAME:rbb-Kalender
VERSION:2.0
METHOD:PUBLISH
CALSCALE:GREGORIAN
PRODID:rbb-CMS DAY
BEGIN:VEVENT
CLASS:PUBLIC
URL:http://www.rbb-online.de/content/rbb/rbb/stilbruch/archiv/20131107_2215/adel-tawil.html
DTEND:20131107T224500
DTSTART:20131107T221500
UID:/content/rbb/rbb/stilbruch/archiv/20131107_2215/adel-tawil
DTSTAMP:20140407T062015
DESCRIPTION:Während die Band "Ich und Ich" erst mal wie angekündigt eine Pause einlegen, geht Band-Mitglied Adel Tawil eigene Wege. Jetzt erscheint das erste Solo-Album des Berliners mit dem simplen Titel "Lieder", worauf er sich mit seinem Aufstieg vom Migrantenkind zum Deutsch-Popstar beschäftigt.\n
SUMMARY:Adel Tawil
END:VEVENT
END:VCALENDAR
