BEGIN:VCALENDAR
X-WR-TIMEZONE:Europe/Berlin
X-WR-CALNAME:rbb-Kalender
VERSION:2.0
METHOD:PUBLISH
CALSCALE:GREGORIAN
PRODID:rbb-CMS DAY
BEGIN:VEVENT
CLASS:PUBLIC
URL:http://www.rbb-online.de/content/rbb/rbb/stilbruch/archiv/20131107_2215/das-haus-ullstein-buch.html
DTEND:20131107T224500
DTSTART:20131107T221500
UID:/content/rbb/rbb/stilbruch/archiv/20131107_2215/das-haus-ullstein-buch
DTSTAMP:20140407T062057
DESCRIPTION:Der Berliner Ullstein Verlag war einst das größte Verlagshaus Europas, gegründet von Leopold Ullstein. Sein jüngster Sohn Hermann ging nach der Machtergreifung der Nationalsozialisten nach Amerika ins Exil. Dort schrieb er ein Buch über Aufstieg und Fall des Hauses Ullstein. Erst jetzt wurde das Buch ins Deutsche übersetzt. (Das Video zum Beitrag liegt aus lizenzrechtlichen Gründen nicht vor.)\n\n\n
SUMMARY:Das Haus Ullstein
END:VEVENT
END:VCALENDAR
