BEGIN:VCALENDAR
X-WR-TIMEZONE:Europe/Berlin
X-WR-CALNAME:rbb-Kalender
VERSION:2.0
METHOD:PUBLISH
CALSCALE:GREGORIAN
PRODID:rbb-CMS DAY
BEGIN:VEVENT
CLASS:PUBLIC
URL:http://www.rbb-online.de/content/rbb/rbb/stilbruch/archiv/20131107_2215/zonenmaedchen.html
DTEND:20131107T224500
DTSTART:20131107T221500
UID:/content/rbb/rbb/stilbruch/archiv/20131107_2215/zonenmaedchen
DTSTAMP:20140407T062113
DESCRIPTION:Als die Mauer fällt, steht Sabine Michel und ihren Freundinnen auf einmal scheinbar die ganze Welt offen. In ihrem Dokumentarfilm "Zonenmädchen" will die Regisseurin 22 Jahre später herausfinden, wie viel DDR noch immer in ihrer Generation steckt.\n
SUMMARY:"Zonenmädchen"
END:VEVENT
END:VCALENDAR
