BEGIN:VCALENDAR
X-WR-TIMEZONE:Europe/Berlin
X-WR-CALNAME:rbb-Kalender
VERSION:2.0
METHOD:PUBLISH
CALSCALE:GREGORIAN
PRODID:rbb-CMS DAY
BEGIN:VEVENT
CLASS:PUBLIC
URL:http://www.rbb-online.de/content/rbb/rbb/stilbruch/archiv/20131114_2215/geheimer-krieg.html
DTEND:20131114T224500
DTSTART:20131114T221500
UID:/content/rbb/rbb/stilbruch/archiv/20131114_2215/geheimer-krieg
DTSTAMP:20140407T062425
DESCRIPTION:Vom Gebäude der amerikanischen Botschaft aus soll unter anderem das Handy von Bundeskanzlerin Merkel angezapft worden sein. Der geheime Krieg der USA gegen den Terror beginnt direkt vor unserer Haustür - das haben zwei investigative Journalisten aufgedeckt.\n
SUMMARY:Geheimer Krieg
END:VEVENT
END:VCALENDAR
