BEGIN:VCALENDAR
X-WR-TIMEZONE:Europe/Berlin
X-WR-CALNAME:rbb-Kalender
VERSION:2.0
METHOD:PUBLISH
CALSCALE:GREGORIAN
PRODID:rbb-CMS DAY
BEGIN:VEVENT
CLASS:PUBLIC
URL:http://www.rbb-online.de/content/rbb/rbb/stilbruch/archiv/20131114_2215/lokalhymnen.html
DTEND:20131114T224500
DTSTART:20131114T221500
UID:/content/rbb/rbb/stilbruch/archiv/20131114_2215/lokalhymnen
DTSTAMP:20140407T062416
DESCRIPTION:Was ist der Soundtrack von Berlin? Elf Berliner Musiker und Bands widmen ihrer Stadt jetzt elf neue Lokalhymnen. Mit dabei sind Lokalmatadore wie PR Kantate oder Jeans Team, die versuchen, das Berliner Lebensgefühl in Musik zu fassen.\n\n\n
SUMMARY:Lokalhymnen
END:VEVENT
END:VCALENDAR
