BEGIN:VCALENDAR
X-WR-TIMEZONE:Europe/Berlin
X-WR-CALNAME:rbb-Kalender
VERSION:2.0
METHOD:PUBLISH
CALSCALE:GREGORIAN
PRODID:rbb-CMS DAY
BEGIN:VEVENT
CLASS:PUBLIC
URL:http://www.rbb-online.de/content/rbb/rbb/stilbruch/archiv/20131121_2215/gluecksschule-berlin.html
DTEND:20131121T224500
DTSTART:20131121T221500
UID:/content/rbb/rbb/stilbruch/archiv/20131121_2215/gluecksschule-berlin
DTSTAMP:20140407T061501
DESCRIPTION:Laut einer neuen Glücksstudie gehören Berliner und Brandenburger zu den unglücklichsten Menschen in ganz Deutschland. Aber man kann Glück angeblich lernen: Hanna Stompe hat den Selbstversuch gewagt und sich einen Tag lang das Glücklichsein beibringen lassen.\n
SUMMARY:Berliner Glücksschule
END:VEVENT
END:VCALENDAR
