BEGIN:VCALENDAR
X-WR-TIMEZONE:Europe/Berlin
X-WR-CALNAME:rbb-Kalender
VERSION:2.0
METHOD:PUBLISH
CALSCALE:GREGORIAN
PRODID:rbb-CMS DAY
BEGIN:VEVENT
CLASS:PUBLIC
URL:http://www.rbb-online.de/content/rbb/rbb/stilbruch/archiv/20131121_2215/hamlet-berliner-ensemble-leander-haussmann.html
DTEND:20131121T224500
DTSTART:20131121T221500
UID:/content/rbb/rbb/stilbruch/archiv/20131121_2215/hamlet-berliner-ensemble-leander-haussmann
DTSTAMP:20140407T061516
DESCRIPTION:Nach zehn Jahren kehrt Leander Haußmann ans Berliner Ensemble zurück. Als Theaterregisseur, Schauspieler und Filmregisseur will er vor allem Rock'n Roll, für eine gute Pointe riskiert er vieles. Shakespeare hat er oft inszeniert - den Hamlet bringt er jedoch zum ersten mal auf die Bühne.\n\n\n
SUMMARY:"Hamlet" im Berliner Ensemble
END:VEVENT
END:VCALENDAR
