BEGIN:VCALENDAR
X-WR-TIMEZONE:Europe/Berlin
X-WR-CALNAME:rbb-Kalender
VERSION:2.0
METHOD:PUBLISH
CALSCALE:GREGORIAN
PRODID:rbb-CMS DAY
BEGIN:VEVENT
CLASS:PUBLIC
URL:http://www.rbb-online.de/content/rbb/rbb/stilbruch/archiv/20131121_2215/jasna-fritzi-bauer-scherbenpark.html
DTEND:20131121T224500
DTSTART:20131121T221500
UID:/content/rbb/rbb/stilbruch/archiv/20131121_2215/jasna-fritzi-bauer-scherbenpark
DTSTAMP:20140407T061452
DESCRIPTION:Erst vor Kurzem hat sie ihr Schauspielstudium an der Berliner Ernst Busch-Schule beendet - und schon spielt sie im Ensemble des Burgtheaters in Wien. Jetzt erscheint der neue Film "Scherbenpark" mit Jasna Fritzi Bauer in der Hauptrolle.\n\n\n
SUMMARY:Jasna Fritzi Bauer
END:VEVENT
END:VCALENDAR
