BEGIN:VCALENDAR
X-WR-TIMEZONE:Europe/Berlin
X-WR-CALNAME:rbb-Kalender
VERSION:2.0
METHOD:PUBLISH
CALSCALE:GREGORIAN
PRODID:rbb-CMS DAY
BEGIN:VEVENT
CLASS:PUBLIC
URL:http://www.rbb-online.de/content/rbb/rbb/stilbruch/archiv/20131121_2215/kulturtipps-mit-edward-b-gordon.html
DTEND:20131121T224500
DTSTART:20131121T221500
UID:/content/rbb/rbb/stilbruch/archiv/20131121_2215/kulturtipps-mit-edward-b-gordon
DTSTAMP:20140407T061430
DESCRIPTION:Tipp 1: "Im Augenblick"\n\nTipp 2: Artbook Berlin\n\nTipp 3: E.T.A. Hoffmann-Skulptur\n\n\n
SUMMARY:Kulturtipps mit Edward B. Gordon
END:VEVENT
END:VCALENDAR
