BEGIN:VCALENDAR
X-WR-TIMEZONE:Europe/Berlin
X-WR-CALNAME:rbb-Kalender
VERSION:2.0
METHOD:PUBLISH
CALSCALE:GREGORIAN
PRODID:rbb-CMS DAY
BEGIN:VEVENT
CLASS:PUBLIC
URL:http://www.rbb-online.de/content/rbb/rbb/stilbruch/archiv/20131121_2215/renee-sintenis-berliner-bildhauerin-ausstellung.html
DTEND:20131121T224500
DTSTART:20131121T221500
UID:/content/rbb/rbb/stilbruch/archiv/20131121_2215/renee-sintenis-berliner-bildhauerin-ausstellung
DTSTAMP:20140407T061439
DESCRIPTION:Berliner kennen den kleinen Bären auf dem Mittelstreifen der A115 bei Dreilinden. Es ist derselbe Bär, der alljährlich als Preis der Berlinale an die Gewinner übergeben wird. Nur wenige kennen allerdings seine Schöpferin: Renée Sintenis. Das Berliner Kolbe Museum widmet der Bildhauerin jetzt eine Ausstellung.\n
SUMMARY:Renée Sintenis
END:VEVENT
END:VCALENDAR
