BEGIN:VCALENDAR
X-WR-TIMEZONE:Europe/Berlin
X-WR-CALNAME:rbb-Kalender
VERSION:2.0
METHOD:PUBLISH
CALSCALE:GREGORIAN
PRODID:rbb-CMS DAY
BEGIN:VEVENT
CLASS:PUBLIC
URL:http://www.rbb-online.de/content/rbb/rbb/stilbruch/archiv/20131128_2215/10-jahre-kulturradio.html
DTEND:20131128T224500
DTSTART:20131128T221500
UID:/content/rbb/rbb/stilbruch/archiv/20131128_2215/10-jahre-kulturradio
DTSTAMP:20140407T061102
DESCRIPTION:Am 1. Dezember 2003 ging das Kulturradio vom rbb auf Sendung, hervorgegangen aus der Fusion von ORB und SFB. Seit diesem Tag bietet Kulturradio klassische Musik rund um die Uhr - und zeigt, wie reich und abwechslungsreich das Kulturleben in Berlin und Brandenburg ist.\n
SUMMARY:10 Jahre Kulturradio
END:VEVENT
END:VCALENDAR
