BEGIN:VCALENDAR
X-WR-TIMEZONE:Europe/Berlin
X-WR-CALNAME:rbb-Kalender
VERSION:2.0
METHOD:PUBLISH
CALSCALE:GREGORIAN
PRODID:rbb-CMS DAY
BEGIN:VEVENT
CLASS:PUBLIC
URL:http://www.rbb-online.de/content/rbb/rbb/stilbruch/archiv/20131128_2215/kulturtipps-mit-jerry-hoffmann.html
DTEND:20131128T224500
DTSTART:20131128T221500
UID:/content/rbb/rbb/stilbruch/archiv/20131128_2215/kulturtipps-mit-jerry-hoffmann
DTSTAMP:20140407T061150
DESCRIPTION:Tipp 1: "Es sagt mir nichts, das sogenannte Draußen"\n\nTipp 2: "Around the World in 14 Films"\n\nTipp 3: "Stichprobe. Comic-Kunst"\n
SUMMARY:Kulturtipps mit Jerry Hoffmann
END:VEVENT
END:VCALENDAR
