BEGIN:VCALENDAR
X-WR-TIMEZONE:Europe/Berlin
X-WR-CALNAME:rbb-Kalender
VERSION:2.0
METHOD:PUBLISH
CALSCALE:GREGORIAN
PRODID:rbb-CMS DAY
BEGIN:VEVENT
CLASS:PUBLIC
URL:http://www.rbb-online.de/content/rbb/rbb/stilbruch/archiv/20131128_2215/max-liebermann-ausstellung-berlin.html
DTEND:20131128T224500
DTSTART:20131128T221500
UID:/content/rbb/rbb/stilbruch/archiv/20131128_2215/max-liebermann-ausstellung-berlin
DTSTAMP:20140407T061117
DESCRIPTION:Mit dem sensationellen Fall der Sammlung Gurlitt ist eine neue Raubkunst-Debatte ausgebrochen. Hochaktuell ist da die neue Berliner Sonderausstellung über die verlorenen Schätze der Kunstsammlung von Max Liebermann. Der war nicht nur einer der wichtigsten Maler seiner Epoche, sondern auch Kunstsammler - bis die Nationalsozialisten seine Sammlung zerschlugen.\n
SUMMARY:Max Liebermanns verlorene Schätze
END:VEVENT
END:VCALENDAR
