BEGIN:VCALENDAR
X-WR-TIMEZONE:Europe/Berlin
X-WR-CALNAME:rbb-Kalender
VERSION:2.0
METHOD:PUBLISH
CALSCALE:GREGORIAN
PRODID:rbb-CMS DAY
BEGIN:VEVENT
CLASS:PUBLIC
URL:http://www.rbb-online.de/content/rbb/rbb/stilbruch/archiv/20131128_2215/wolf-jobst-siedler.html
DTEND:20131128T224500
DTSTART:20131128T221500
UID:/content/rbb/rbb/stilbruch/archiv/20131128_2215/wolf-jobst-siedler
DTSTAMP:20140407T061126
DESCRIPTION:Eine der wichtigsten und prägendsten deutschen Verleger und Publizisten der Nachkriegszeit ist tot: Wolf Jobst Siedler ist am Mittwoch im Alter von 87 Jahren gestorben. \n
SUMMARY:Wolf Jobst Siedler 
END:VEVENT
END:VCALENDAR
