BEGIN:VCALENDAR
X-WR-TIMEZONE:Europe/Berlin
X-WR-CALNAME:rbb-Kalender
VERSION:2.0
METHOD:PUBLISH
CALSCALE:GREGORIAN
PRODID:rbb-CMS DAY
BEGIN:VEVENT
CLASS:PUBLIC
URL:http://www.rbb-online.de/content/rbb/rbb/stilbruch/archiv/20131205_2215/houston-film.html
DTEND:20131205T224500
DTSTART:20131205T221500
UID:/content/rbb/rbb/stilbruch/archiv/20131205_2215/houston-film
DTSTAMP:20140407T061545
DESCRIPTION:Für seinen neuen Film wollte der Berliner Regisseur Bastian Günther unbedingt die Stadt Houston als Drehort, weil er das Licht dort einmalig findet. Und er wollte Ulrich Tukur als Hauptdarsteller, der einen alkoholkranken deutschen Headhunter spielt, den es nach Texas verschlägt.\n
SUMMARY:"Houston"
END:VEVENT
END:VCALENDAR
