BEGIN:VCALENDAR
X-WR-TIMEZONE:Europe/Berlin
X-WR-CALNAME:rbb-Kalender
VERSION:2.0
METHOD:PUBLISH
CALSCALE:GREGORIAN
PRODID:rbb-CMS DAY
BEGIN:VEVENT
CLASS:PUBLIC
URL:http://www.rbb-online.de/content/rbb/rbb/stilbruch/archiv/20131205_2215/regine-zimmermann.html
DTEND:20131205T224500
DTSTART:20131205T221500
UID:/content/rbb/rbb/stilbruch/archiv/20131205_2215/regine-zimmermann
DTSTAMP:20140407T061558
DESCRIPTION:Die gebürtige Pfälzerin ist eine feste Größe an Berliner Theatern. Regine Zimmermann war viele Jahre am Deutschen Theater. Mittlerweile spielt sie an der Schaubühne, wo sie im Dezember in Molieres "Tartuffe" auftritt. Und obwohl sie immer wieder mal im Fernsehen und im Kino zu sehen ist, ist sie vor allem Berliner Theatergängern ein Begriff.\n\n\n
SUMMARY:Regine Zimmermann 
END:VEVENT
END:VCALENDAR
