BEGIN:VCALENDAR
X-WR-TIMEZONE:Europe/Berlin
X-WR-CALNAME:rbb-Kalender
VERSION:2.0
METHOD:PUBLISH
CALSCALE:GREGORIAN
PRODID:rbb-CMS DAY
BEGIN:VEVENT
CLASS:PUBLIC
URL:http://www.rbb-online.de/content/rbb/rbb/stilbruch/archiv/20140109_2215/hans-juergen-gaudeck.html
DTEND:20140109T224500
DTSTART:20140109T221500
UID:/content/rbb/rbb/stilbruch/archiv/20140109_2215/hans-juergen-gaudeck
DTSTAMP:20140407T061346
DESCRIPTION:Die Lyrikerin Evas Strittmatter war eine der meistgelesenen Autorinnen der DDR und großer Fontane-Fan. Sie lebte viele Jahre auf dem Schulzenhof in der Nähe von Neuruppin. Und genau an diesen Ort kam eines Tages der Aquarellmaler Hans-Jürgen Gaudeck, der poetische Bilder davon malte.\n
SUMMARY:Hans Jürgen Gaudeck
END:VEVENT
END:VCALENDAR
