BEGIN:VCALENDAR
X-WR-TIMEZONE:Europe/Berlin
X-WR-CALNAME:rbb-Kalender
VERSION:2.0
METHOD:PUBLISH
CALSCALE:GREGORIAN
PRODID:rbb-CMS DAY
BEGIN:VEVENT
CLASS:PUBLIC
URL:http://www.rbb-online.de/content/rbb/rbb/stilbruch/archiv/20140109_2215/klassenzimmerstuecke-deutsches-theater.html
DTEND:20140109T224500
DTSTART:20140109T221500
UID:/content/rbb/rbb/stilbruch/archiv/20140109_2215/klassenzimmerstuecke-deutsches-theater
DTSTAMP:20140407T061323
DESCRIPTION:Wenn junge Leute nicht ins Theater kommen, dann kommt das Theater eben zu ihnen. Das Deutsche Theater Berlin produziert "Klassenzimmerstücke" für Berliner und Brandenburger Schulen. Sie sind die meistgespielten Inszenierungen des Theaters - auch wenn sie in keinem offiziellen Spielplan auftauchen.\n
SUMMARY:Klassenzimmerstücke des Deutschen Theaters
END:VEVENT
END:VCALENDAR
