BEGIN:VCALENDAR
X-WR-TIMEZONE:Europe/Berlin
X-WR-CALNAME:rbb-Kalender
VERSION:2.0
METHOD:PUBLISH
CALSCALE:GREGORIAN
PRODID:rbb-CMS DAY
BEGIN:VEVENT
CLASS:PUBLIC
URL:http://www.rbb-online.de/content/rbb/rbb/stilbruch/archiv/20140109_2215/kulturtipps-mit-esther-perbandt.html
DTEND:20140109T224500
DTSTART:20140109T221500
UID:/content/rbb/rbb/stilbruch/archiv/20140109_2215/kulturtipps-mit-esther-perbandt
DTSTAMP:20140407T061405
DESCRIPTION:Tipp 1: "Potse 68"\n\nTipp 2: "Idealisten"\n\nTipp 3: "Salumeria Lamuri"\n
SUMMARY:Kulturtipps mit Esther Perbandt
END:VEVENT
END:VCALENDAR
