BEGIN:VCALENDAR
X-WR-TIMEZONE:Europe/Berlin
X-WR-CALNAME:rbb-Kalender
VERSION:2.0
METHOD:PUBLISH
CALSCALE:GREGORIAN
PRODID:rbb-CMS DAY
BEGIN:VEVENT
CLASS:PUBLIC
URL:http://www.rbb-online.de/content/rbb/rbb/stilbruch/archiv/20140116_2215/katharina-micada-singende-saege.html
DTEND:20140116T224500
DTSTART:20140116T221500
UID:/content/rbb/rbb/stilbruch/archiv/20140116_2215/katharina-micada-singende-saege
DTSTAMP:20140406T101631
DESCRIPTION:Die Berlinerin Katharina Micada spielt ein ungewöhnliches Instrument: die Säge. Im Januar spielt sie sie sogar an drei Tagen vor großem Publikum zusammen mit den Berliner Philharmonikern - und zwar den Liederzyklus "Ancient Voices of Children".\n
SUMMARY:Katharina Micada und die "singende Säge"
END:VEVENT
END:VCALENDAR
