BEGIN:VCALENDAR
X-WR-TIMEZONE:Europe/Berlin
X-WR-CALNAME:rbb-Kalender
VERSION:2.0
METHOD:PUBLISH
CALSCALE:GREGORIAN
PRODID:rbb-CMS DAY
BEGIN:VEVENT
CLASS:PUBLIC
URL:http://www.rbb-online.de/content/rbb/rbb/stilbruch/archiv/20140116_2215/katharina-thalbach-roter-hahn-im-biberpelz.html
DTEND:20140116T224500
DTSTART:20140116T221500
UID:/content/rbb/rbb/stilbruch/archiv/20140116_2215/katharina-thalbach-roter-hahn-im-biberpelz
DTSTAMP:20140406T101609
DESCRIPTION:Unverkennbare Stimme, unbändige Spielfreude und viel Humor: Katharina Thalbach feiert ihren 60. Geburtstag. Im Theater am Kurfürstendamm werden zum ersten mal alle drei Thalbach-Frauen gemeinsam auf der Bühne stehen. Dazu kommen noch Katharinas Halbbrüder Pierre und Philippe Besson. Eine richtige Familienfeier.\n\n
SUMMARY:Katharina Thalbach
END:VEVENT
END:VCALENDAR
